BEGIN:VCALENDAR
VERSION:2.0
PRODID:-//Transform Fresno - ECPv6.6.4.2//NONSGML v1.0//EN
CALSCALE:GREGORIAN
METHOD:PUBLISH
X-ORIGINAL-URL:https://www.transformfresno.com
X-WR-CALDESC:Events for Transform Fresno
REFRESH-INTERVAL;VALUE=DURATION:PT1H
X-Robots-Tag:noindex
X-PUBLISHED-TTL:PT1H
BEGIN:VTIMEZONE
TZID:America/Los_Angeles
BEGIN:DAYLIGHT
TZOFFSETFROM:-0800
TZOFFSETTO:-0700
TZNAME:PDT
DTSTART:20240310T100000
END:DAYLIGHT
BEGIN:STANDARD
TZOFFSETFROM:-0700
TZOFFSETTO:-0800
TZNAME:PST
DTSTART:20241103T090000
END:STANDARD
END:VTIMEZONE
BEGIN:VEVENT
DTSTART;TZID=America/Los_Angeles:20240316T110000
DTEND;TZID=America/Los_Angeles:20240316T140000
DTSTAMP:20260421T020505
CREATED:20240425T164650Z
LAST-MODIFIED:20240425T164650Z
UID:3032-1710586800-1710597600@www.transformfresno.com
SUMMARY:ArtFlow Creation Session
DESCRIPTION:[vc_row][vc_column][vc_column_text]Join us for a no cost art session led by Astro! No experience necessary\, all materials will be provided![/vc_column_text][/vc_column][/vc_row][vc_row][vc_column width=”1/2″][vc_single_image image=”3033″ img_size=”large”][/vc_column][vc_column width=”1/2″][vc_single_image image=”3034″ img_size=”large”][/vc_column][/vc_row]
URL:https://www.transformfresno.com/event/artflow-creation-session-2/
LOCATION:Yo’Ville Community Garden and Farm\, 872 W Atchison CT\, Fresno\, CA\, 93706\, United States
CATEGORIES:Community Event
END:VEVENT
BEGIN:VEVENT
DTSTART;TZID=America/Los_Angeles:20240426T173000
DTEND;TZID=America/Los_Angeles:20240426T190000
DTSTAMP:20260421T020505
CREATED:20240425T165751Z
LAST-MODIFIED:20240425T165751Z
UID:3036-1714152600-1714158000@www.transformfresno.com
SUMMARY:ArtFlow Creation Session
DESCRIPTION:[vc_row][vc_column][vc_column_text]Join us for a no cost art session led by Kambrya Bailey! No experience necessary\, all materials will be provided![/vc_column_text][/vc_column][/vc_row][vc_row][vc_column width=”1/2″][vc_single_image image=”3038″ img_size=”large”][/vc_column][vc_column width=”1/2″][vc_single_image image=”3037″ img_size=”large”][/vc_column][/vc_row]
URL:https://www.transformfresno.com/event/artflow-creation-session-3/
LOCATION:Yo’Ville Community Garden and Farm\, 872 W Atchison CT\, Fresno\, CA\, 93706\, United States
CATEGORIES:Community Event
END:VEVENT
BEGIN:VEVENT
DTSTART;TZID=America/Los_Angeles:20240502T170000
DTEND;TZID=America/Los_Angeles:20240502T193000
DTSTAMP:20260421T020505
CREATED:20240425T170342Z
LAST-MODIFIED:20240425T170432Z
UID:3039-1714669200-1714678200@www.transformfresno.com
SUMMARY:Transform Fresno Art Hop!
DESCRIPTION:[vc_row][vc_column][vc_column_text]Join us Thursday May 2nd for a very special ArtHop centering our Youth Leadership Cohort and their incredible Zine!! You won’t want to miss this![/vc_column_text][/vc_column][/vc_row][vc_row][vc_column width=”1/2″][vc_single_image image=”3040″ img_size=”large”][/vc_column][vc_column width=”1/2″][vc_single_image image=”3041″ img_size=”large”][/vc_column][/vc_row]
URL:https://www.transformfresno.com/event/transform-fresno-art-hop/
LOCATION:Fresno EOC Courtyard\, 1900 Mariposa St\, Fresno\, 93721
CATEGORIES:Community Event
END:VEVENT
END:VCALENDAR