BEGIN:VCALENDAR
VERSION:2.0
PRODID:-//Transform Fresno - ECPv6.6.4.2//NONSGML v1.0//EN
CALSCALE:GREGORIAN
METHOD:PUBLISH
X-WR-CALNAME:Transform Fresno
X-ORIGINAL-URL:https://www.transformfresno.com
X-WR-CALDESC:Events for Transform Fresno
REFRESH-INTERVAL;VALUE=DURATION:PT1H
X-Robots-Tag:noindex
X-PUBLISHED-TTL:PT1H
BEGIN:VTIMEZONE
TZID:America/Los_Angeles
BEGIN:DAYLIGHT
TZOFFSETFROM:-0800
TZOFFSETTO:-0700
TZNAME:PDT
DTSTART:20200308T100000
END:DAYLIGHT
BEGIN:STANDARD
TZOFFSETFROM:-0700
TZOFFSETTO:-0800
TZNAME:PST
DTSTART:20201101T090000
END:STANDARD
END:VTIMEZONE
BEGIN:VEVENT
DTSTART;TZID=America/Los_Angeles:20201024T110000
DTEND;TZID=America/Los_Angeles:20201024T120000
DTSTAMP:20260423T032439
CREATED:20201009T163522Z
LAST-MODIFIED:20210114T004545Z
UID:1046-1603537200-1603540800@www.transformfresno.com
SUMMARY:Smart Cycling II: Riding on the Road in Fresno
DESCRIPTION:[vc_row][vc_column][vc_column_text]This course follow the smart cycling curriculum developed by the League of California Bicyclists and covers Principles of traffic law\, lane positioning\, types of bike lanes\, where to ride in the Fresno area\, group and rural riding and accident avoidance. \nAttendees of both Smart Cycling I and Smart Cycling II will receive a helmet and light\, subject to availability. Must sign up with name and email address to receive helmet and light. \nCheck out more info at www.usgbccc.org/bikesafefresno[/vc_column_text][/vc_column][/vc_row]
URL:https://www.transformfresno.com/event/smart-cycling-ii-riding-on-the-road-in-fresno/
LOCATION:Online
CATEGORIES:Community Event
ATTACH;FMTTYPE=image/jpeg:https://www.transformfresno.com/wp-content/uploads/2020/10/Bike_20Safety.jpg
END:VEVENT
END:VCALENDAR